BEGIN:VCALENDAR
PRODID:-//eluceo/ical//2.0/EN
VERSION:2.0
CALSCALE:GREGORIAN
BEGIN:VEVENT
UID:234c6b7d1c9e3f6694f626cb03dcffef
DTSTAMP:20260423T155239Z
SUMMARY:Elementary music concert
DESCRIPTION:Join us in the PAB auditorium on Friday\, May 8 at 9:30 as our 
 Elementary students take the stage to share music about friendship!\n
DTSTART:20260508T013000
DTEND:20260508T023000
END:VEVENT
END:VCALENDAR
